BEGIN:VCALENDAR
VERSION:2.0
PRODID:-//Imperial Trading Cards - ECPv6.15.20//NONSGML v1.0//EN
CALSCALE:GREGORIAN
METHOD:PUBLISH
X-WR-CALNAME:Imperial Trading Cards
X-ORIGINAL-URL:https://www.imperialtradingcards.com
X-WR-CALDESC:Events for Imperial Trading Cards
REFRESH-INTERVAL;VALUE=DURATION:PT1H
X-Robots-Tag:noindex
X-PUBLISHED-TTL:PT1H
BEGIN:VTIMEZONE
TZID:America/Chicago
BEGIN:DAYLIGHT
TZOFFSETFROM:-0600
TZOFFSETTO:-0500
TZNAME:CDT
DTSTART:20250309T080000
END:DAYLIGHT
BEGIN:STANDARD
TZOFFSETFROM:-0500
TZOFFSETTO:-0600
TZNAME:CST
DTSTART:20251102T070000
END:STANDARD
BEGIN:DAYLIGHT
TZOFFSETFROM:-0600
TZOFFSETTO:-0500
TZNAME:CDT
DTSTART:20260308T080000
END:DAYLIGHT
BEGIN:STANDARD
TZOFFSETFROM:-0500
TZOFFSETTO:-0600
TZNAME:CST
DTSTART:20261101T070000
END:STANDARD
BEGIN:DAYLIGHT
TZOFFSETFROM:-0600
TZOFFSETTO:-0500
TZNAME:CDT
DTSTART:20270314T080000
END:DAYLIGHT
BEGIN:STANDARD
TZOFFSETFROM:-0500
TZOFFSETTO:-0600
TZNAME:CST
DTSTART:20271107T070000
END:STANDARD
END:VTIMEZONE
BEGIN:VEVENT
DTSTART;TZID=America/Chicago:20260304T180000
DTEND;TZID=America/Chicago:20260304T210000
DTSTAMP:20260423T085104
CREATED:20250401T201645Z
LAST-MODIFIED:20250607T230606Z
UID:10014865-1772647200-1772658000@www.imperialtradingcards.com
SUMMARY:Lorcana Tournament
DESCRIPTION:Wield your Inks and fight alongside some of your favorite Disney friends in our Lorcana Constructed Tournaments! \nEntry $5\, Swiss Format\nParticipants receive one pack for entry with additional prizing based on participation \nOfficial Lorcana Tournament Rules here:\nhttps://cdn.ravensburger.com/lorcana/tournament-rules
URL:https://www.imperialtradingcards.com/event/lorcana-sealed-deck-event-2-2-2/2026-03-04/
CATEGORIES:Constructed,Lorcana,Trading Card Games
ATTACH;FMTTYPE=image/png:https://www.imperialtradingcards.com/wp-content/uploads/2023/07/lorcanav1-1.png
END:VEVENT
BEGIN:VEVENT
DTSTART;TZID=America/Chicago:20260304T180000
DTEND;TZID=America/Chicago:20260304T210000
DTSTAMP:20260423T085104
CREATED:20250814T234314Z
LAST-MODIFIED:20250814T234327Z
UID:10015327-1772647200-1772658000@www.imperialtradingcards.com
SUMMARY:Gundam TCG Tournament
DESCRIPTION:Suit up prepare for battle in our official One Piece Card Game Tournament night! \n$5 Entry\nPrizing based on number of entrants with Tournament Packs for participation \n*Bandai TCG+ Accounts Required!*\nDon’t have an account? Sign up free at https://www.bandai-tcg-plus.com/ \nOfficial Gundam Tournament Rules can be found here:\nhttps://www.gundam-gcg.com/en/pdf/floor_rule_en.pdf?2507252
URL:https://www.imperialtradingcards.com/event/gundam-tournament/2026-03-04/
CATEGORIES:Gundam,Trading Card Games
ATTACH;FMTTYPE=image/png:https://www.imperialtradingcards.com/wp-content/uploads/2025/08/images.png
END:VEVENT
BEGIN:VEVENT
DTSTART;TZID=America/Chicago:20260304T180000
DTEND;TZID=America/Chicago:20260304T210000
DTSTAMP:20260423T085104
CREATED:20251105T202825Z
LAST-MODIFIED:20251105T202842Z
UID:10015970-1772647200-1772658000@www.imperialtradingcards.com
SUMMARY:Yugioh Genesys Tournament
DESCRIPTION:Fight for packs and prestige in an official Konami Yugioh tournament! \nGenesys Ruleset 100 Point Limit\, 45 Minute Round Timer\, Swiss bracket. $5 Entry. \n  \nAdditional Format Information: \nCurrent Genesys Rules and Card Point List: https://www.yugioh-card.com/en/genesys/ \nKonami Tournament Policy: https://img.yugioh-card.com/en/downloads/penalty_guide/YGOTCG_Policy_v_2_2.pdf
URL:https://www.imperialtradingcards.com/event/yugioh-genesys/2026-03-04/
CATEGORIES:Genesys,Yugioh
ATTACH;FMTTYPE=image/png:https://www.imperialtradingcards.com/wp-content/uploads/2025/11/genesys_logo.png
END:VEVENT
END:VCALENDAR