BEGIN:VCALENDAR
VERSION:2.0
PRODID:-//Imperial Trading Cards - ECPv6.15.20//NONSGML v1.0//EN
CALSCALE:GREGORIAN
METHOD:PUBLISH
X-WR-CALNAME:Imperial Trading Cards
X-ORIGINAL-URL:https://www.imperialtradingcards.com
X-WR-CALDESC:Events for Imperial Trading Cards
REFRESH-INTERVAL;VALUE=DURATION:PT1H
X-Robots-Tag:noindex
X-PUBLISHED-TTL:PT1H
BEGIN:VTIMEZONE
TZID:America/Chicago
BEGIN:DAYLIGHT
TZOFFSETFROM:-0600
TZOFFSETTO:-0500
TZNAME:CDT
DTSTART:20260308T080000
END:DAYLIGHT
BEGIN:STANDARD
TZOFFSETFROM:-0500
TZOFFSETTO:-0600
TZNAME:CST
DTSTART:20261101T070000
END:STANDARD
BEGIN:DAYLIGHT
TZOFFSETFROM:-0600
TZOFFSETTO:-0500
TZNAME:CDT
DTSTART:20270314T080000
END:DAYLIGHT
BEGIN:STANDARD
TZOFFSETFROM:-0500
TZOFFSETTO:-0600
TZNAME:CST
DTSTART:20271107T070000
END:STANDARD
BEGIN:DAYLIGHT
TZOFFSETFROM:-0600
TZOFFSETTO:-0500
TZNAME:CDT
DTSTART:20280312T080000
END:DAYLIGHT
BEGIN:STANDARD
TZOFFSETFROM:-0500
TZOFFSETTO:-0600
TZNAME:CST
DTSTART:20281105T070000
END:STANDARD
END:VTIMEZONE
BEGIN:VEVENT
DTSTART;TZID=America/Chicago:20270103T150000
DTEND;TZID=America/Chicago:20270103T190000
DTSTAMP:20260423T095831
CREATED:20240526T011457Z
LAST-MODIFIED:20250918T122716Z
UID:10013160-1798988400-1799002800@www.imperialtradingcards.com
SUMMARY:MtG Draft
DESCRIPTION:Out-think\, out-predict\, out-pick\, and out-build up to 7 opponents in a Magic the Gathering Draft! There is honestly nothing that quite compares to the must-try experience and strategy of this playing field leveling\, quite literally game defining Magic format! \nEach player receives three sealed packs of cards at the start of the event and takes turns around the table picking one card from each pack at a time to form a deck to battle with on the fly! Drafted cards are yours to keep\, with additional pack prizing based on entry count. \n  \n$20 entry ($15 for Historical Draft Packs). Pods begin firing at 3:00pm and will hard fire at 3:30PM as long as there are enough participants.
URL:https://www.imperialtradingcards.com/event/mtg-draft-2/2027-01-03/
CATEGORIES:Draft,Magic the Gathering
ATTACH;FMTTYPE=image/jpeg:https://www.imperialtradingcards.com/wp-content/uploads/2023/07/mtgdraft.jpg
END:VEVENT
BEGIN:VEVENT
DTSTART;TZID=America/Chicago:20270105T160000
DTEND;TZID=America/Chicago:20270105T210000
DTSTAMP:20260423T095831
CREATED:20240526T011646Z
LAST-MODIFIED:20240526T011647Z
UID:10013420-1799164800-1799182800@www.imperialtradingcards.com
SUMMARY:Casual MtG Commander
DESCRIPTION:Join us for an open night of Commander! \nDecks of any power level and players of any skill level welcome!
URL:https://www.imperialtradingcards.com/event/casual-mtg-commander-2-2/2027-01-05/
CATEGORIES:Commander,Magic the Gathering,Trading Card Games
ATTACH;FMTTYPE=image/png:https://www.imperialtradingcards.com/wp-content/uploads/2023/07/magicv1.png
END:VEVENT
BEGIN:VEVENT
DTSTART;TZID=America/Chicago:20270110T150000
DTEND;TZID=America/Chicago:20270110T190000
DTSTAMP:20260423T095831
CREATED:20240526T011457Z
LAST-MODIFIED:20250918T122716Z
UID:10013161-1799593200-1799607600@www.imperialtradingcards.com
SUMMARY:MtG Draft
DESCRIPTION:Out-think\, out-predict\, out-pick\, and out-build up to 7 opponents in a Magic the Gathering Draft! There is honestly nothing that quite compares to the must-try experience and strategy of this playing field leveling\, quite literally game defining Magic format! \nEach player receives three sealed packs of cards at the start of the event and takes turns around the table picking one card from each pack at a time to form a deck to battle with on the fly! Drafted cards are yours to keep\, with additional pack prizing based on entry count. \n  \n$20 entry ($15 for Historical Draft Packs). Pods begin firing at 3:00pm and will hard fire at 3:30PM as long as there are enough participants.
URL:https://www.imperialtradingcards.com/event/mtg-draft-2/2027-01-10/
CATEGORIES:Draft,Magic the Gathering
ATTACH;FMTTYPE=image/jpeg:https://www.imperialtradingcards.com/wp-content/uploads/2023/07/mtgdraft.jpg
END:VEVENT
BEGIN:VEVENT
DTSTART;TZID=America/Chicago:20270112T160000
DTEND;TZID=America/Chicago:20270112T210000
DTSTAMP:20260423T095831
CREATED:20240526T011646Z
LAST-MODIFIED:20240526T011647Z
UID:10013421-1799769600-1799787600@www.imperialtradingcards.com
SUMMARY:Casual MtG Commander
DESCRIPTION:Join us for an open night of Commander! \nDecks of any power level and players of any skill level welcome!
URL:https://www.imperialtradingcards.com/event/casual-mtg-commander-2-2/2027-01-12/
CATEGORIES:Commander,Magic the Gathering,Trading Card Games
ATTACH;FMTTYPE=image/png:https://www.imperialtradingcards.com/wp-content/uploads/2023/07/magicv1.png
END:VEVENT
BEGIN:VEVENT
DTSTART;TZID=America/Chicago:20270117T150000
DTEND;TZID=America/Chicago:20270117T190000
DTSTAMP:20260423T095831
CREATED:20240526T011457Z
LAST-MODIFIED:20250918T122716Z
UID:10013162-1800198000-1800212400@www.imperialtradingcards.com
SUMMARY:MtG Draft
DESCRIPTION:Out-think\, out-predict\, out-pick\, and out-build up to 7 opponents in a Magic the Gathering Draft! There is honestly nothing that quite compares to the must-try experience and strategy of this playing field leveling\, quite literally game defining Magic format! \nEach player receives three sealed packs of cards at the start of the event and takes turns around the table picking one card from each pack at a time to form a deck to battle with on the fly! Drafted cards are yours to keep\, with additional pack prizing based on entry count. \n  \n$20 entry ($15 for Historical Draft Packs). Pods begin firing at 3:00pm and will hard fire at 3:30PM as long as there are enough participants.
URL:https://www.imperialtradingcards.com/event/mtg-draft-2/2027-01-17/
CATEGORIES:Draft,Magic the Gathering
ATTACH;FMTTYPE=image/jpeg:https://www.imperialtradingcards.com/wp-content/uploads/2023/07/mtgdraft.jpg
END:VEVENT
BEGIN:VEVENT
DTSTART;TZID=America/Chicago:20270119T160000
DTEND;TZID=America/Chicago:20270119T210000
DTSTAMP:20260423T095831
CREATED:20240526T011646Z
LAST-MODIFIED:20240526T011647Z
UID:10013422-1800374400-1800392400@www.imperialtradingcards.com
SUMMARY:Casual MtG Commander
DESCRIPTION:Join us for an open night of Commander! \nDecks of any power level and players of any skill level welcome!
URL:https://www.imperialtradingcards.com/event/casual-mtg-commander-2-2/2027-01-19/
CATEGORIES:Commander,Magic the Gathering,Trading Card Games
ATTACH;FMTTYPE=image/png:https://www.imperialtradingcards.com/wp-content/uploads/2023/07/magicv1.png
END:VEVENT
BEGIN:VEVENT
DTSTART;TZID=America/Chicago:20270124T150000
DTEND;TZID=America/Chicago:20270124T190000
DTSTAMP:20260423T095831
CREATED:20240526T011457Z
LAST-MODIFIED:20250918T122716Z
UID:10013163-1800802800-1800817200@www.imperialtradingcards.com
SUMMARY:MtG Draft
DESCRIPTION:Out-think\, out-predict\, out-pick\, and out-build up to 7 opponents in a Magic the Gathering Draft! There is honestly nothing that quite compares to the must-try experience and strategy of this playing field leveling\, quite literally game defining Magic format! \nEach player receives three sealed packs of cards at the start of the event and takes turns around the table picking one card from each pack at a time to form a deck to battle with on the fly! Drafted cards are yours to keep\, with additional pack prizing based on entry count. \n  \n$20 entry ($15 for Historical Draft Packs). Pods begin firing at 3:00pm and will hard fire at 3:30PM as long as there are enough participants.
URL:https://www.imperialtradingcards.com/event/mtg-draft-2/2027-01-24/
CATEGORIES:Draft,Magic the Gathering
ATTACH;FMTTYPE=image/jpeg:https://www.imperialtradingcards.com/wp-content/uploads/2023/07/mtgdraft.jpg
END:VEVENT
BEGIN:VEVENT
DTSTART;TZID=America/Chicago:20270126T160000
DTEND;TZID=America/Chicago:20270126T210000
DTSTAMP:20260423T095831
CREATED:20240526T011646Z
LAST-MODIFIED:20240526T011647Z
UID:10013423-1800979200-1800997200@www.imperialtradingcards.com
SUMMARY:Casual MtG Commander
DESCRIPTION:Join us for an open night of Commander! \nDecks of any power level and players of any skill level welcome!
URL:https://www.imperialtradingcards.com/event/casual-mtg-commander-2-2/2027-01-26/
CATEGORIES:Commander,Magic the Gathering,Trading Card Games
ATTACH;FMTTYPE=image/png:https://www.imperialtradingcards.com/wp-content/uploads/2023/07/magicv1.png
END:VEVENT
BEGIN:VEVENT
DTSTART;TZID=America/Chicago:20270131T150000
DTEND;TZID=America/Chicago:20270131T190000
DTSTAMP:20260423T095831
CREATED:20240526T011457Z
LAST-MODIFIED:20250918T122716Z
UID:10013164-1801407600-1801422000@www.imperialtradingcards.com
SUMMARY:MtG Draft
DESCRIPTION:Out-think\, out-predict\, out-pick\, and out-build up to 7 opponents in a Magic the Gathering Draft! There is honestly nothing that quite compares to the must-try experience and strategy of this playing field leveling\, quite literally game defining Magic format! \nEach player receives three sealed packs of cards at the start of the event and takes turns around the table picking one card from each pack at a time to form a deck to battle with on the fly! Drafted cards are yours to keep\, with additional pack prizing based on entry count. \n  \n$20 entry ($15 for Historical Draft Packs). Pods begin firing at 3:00pm and will hard fire at 3:30PM as long as there are enough participants.
URL:https://www.imperialtradingcards.com/event/mtg-draft-2/2027-01-31/
CATEGORIES:Draft,Magic the Gathering
ATTACH;FMTTYPE=image/jpeg:https://www.imperialtradingcards.com/wp-content/uploads/2023/07/mtgdraft.jpg
END:VEVENT
BEGIN:VEVENT
DTSTART;TZID=America/Chicago:20270202T160000
DTEND;TZID=America/Chicago:20270202T210000
DTSTAMP:20260423T095831
CREATED:20240526T011646Z
LAST-MODIFIED:20240526T011647Z
UID:10013424-1801584000-1801602000@www.imperialtradingcards.com
SUMMARY:Casual MtG Commander
DESCRIPTION:Join us for an open night of Commander! \nDecks of any power level and players of any skill level welcome!
URL:https://www.imperialtradingcards.com/event/casual-mtg-commander-2-2/2027-02-02/
CATEGORIES:Commander,Magic the Gathering,Trading Card Games
ATTACH;FMTTYPE=image/png:https://www.imperialtradingcards.com/wp-content/uploads/2023/07/magicv1.png
END:VEVENT
BEGIN:VEVENT
DTSTART;TZID=America/Chicago:20270207T150000
DTEND;TZID=America/Chicago:20270207T190000
DTSTAMP:20260423T095831
CREATED:20240526T011457Z
LAST-MODIFIED:20250918T122716Z
UID:10013165-1802012400-1802026800@www.imperialtradingcards.com
SUMMARY:MtG Draft
DESCRIPTION:Out-think\, out-predict\, out-pick\, and out-build up to 7 opponents in a Magic the Gathering Draft! There is honestly nothing that quite compares to the must-try experience and strategy of this playing field leveling\, quite literally game defining Magic format! \nEach player receives three sealed packs of cards at the start of the event and takes turns around the table picking one card from each pack at a time to form a deck to battle with on the fly! Drafted cards are yours to keep\, with additional pack prizing based on entry count. \n  \n$20 entry ($15 for Historical Draft Packs). Pods begin firing at 3:00pm and will hard fire at 3:30PM as long as there are enough participants.
URL:https://www.imperialtradingcards.com/event/mtg-draft-2/2027-02-07/
CATEGORIES:Draft,Magic the Gathering
ATTACH;FMTTYPE=image/jpeg:https://www.imperialtradingcards.com/wp-content/uploads/2023/07/mtgdraft.jpg
END:VEVENT
BEGIN:VEVENT
DTSTART;TZID=America/Chicago:20270209T160000
DTEND;TZID=America/Chicago:20270209T210000
DTSTAMP:20260423T095831
CREATED:20240526T011646Z
LAST-MODIFIED:20240526T011647Z
UID:10013425-1802188800-1802206800@www.imperialtradingcards.com
SUMMARY:Casual MtG Commander
DESCRIPTION:Join us for an open night of Commander! \nDecks of any power level and players of any skill level welcome!
URL:https://www.imperialtradingcards.com/event/casual-mtg-commander-2-2/2027-02-09/
CATEGORIES:Commander,Magic the Gathering,Trading Card Games
ATTACH;FMTTYPE=image/png:https://www.imperialtradingcards.com/wp-content/uploads/2023/07/magicv1.png
END:VEVENT
BEGIN:VEVENT
DTSTART;TZID=America/Chicago:20270214T150000
DTEND;TZID=America/Chicago:20270214T190000
DTSTAMP:20260423T095831
CREATED:20240526T011457Z
LAST-MODIFIED:20250918T122716Z
UID:10013166-1802617200-1802631600@www.imperialtradingcards.com
SUMMARY:MtG Draft
DESCRIPTION:Out-think\, out-predict\, out-pick\, and out-build up to 7 opponents in a Magic the Gathering Draft! There is honestly nothing that quite compares to the must-try experience and strategy of this playing field leveling\, quite literally game defining Magic format! \nEach player receives three sealed packs of cards at the start of the event and takes turns around the table picking one card from each pack at a time to form a deck to battle with on the fly! Drafted cards are yours to keep\, with additional pack prizing based on entry count. \n  \n$20 entry ($15 for Historical Draft Packs). Pods begin firing at 3:00pm and will hard fire at 3:30PM as long as there are enough participants.
URL:https://www.imperialtradingcards.com/event/mtg-draft-2/2027-02-14/
CATEGORIES:Draft,Magic the Gathering
ATTACH;FMTTYPE=image/jpeg:https://www.imperialtradingcards.com/wp-content/uploads/2023/07/mtgdraft.jpg
END:VEVENT
BEGIN:VEVENT
DTSTART;TZID=America/Chicago:20270216T160000
DTEND;TZID=America/Chicago:20270216T210000
DTSTAMP:20260423T095831
CREATED:20240526T011646Z
LAST-MODIFIED:20240526T011647Z
UID:10013426-1802793600-1802811600@www.imperialtradingcards.com
SUMMARY:Casual MtG Commander
DESCRIPTION:Join us for an open night of Commander! \nDecks of any power level and players of any skill level welcome!
URL:https://www.imperialtradingcards.com/event/casual-mtg-commander-2-2/2027-02-16/
CATEGORIES:Commander,Magic the Gathering,Trading Card Games
ATTACH;FMTTYPE=image/png:https://www.imperialtradingcards.com/wp-content/uploads/2023/07/magicv1.png
END:VEVENT
BEGIN:VEVENT
DTSTART;TZID=America/Chicago:20270221T150000
DTEND;TZID=America/Chicago:20270221T190000
DTSTAMP:20260423T095831
CREATED:20240526T011457Z
LAST-MODIFIED:20250918T122716Z
UID:10013167-1803222000-1803236400@www.imperialtradingcards.com
SUMMARY:MtG Draft
DESCRIPTION:Out-think\, out-predict\, out-pick\, and out-build up to 7 opponents in a Magic the Gathering Draft! There is honestly nothing that quite compares to the must-try experience and strategy of this playing field leveling\, quite literally game defining Magic format! \nEach player receives three sealed packs of cards at the start of the event and takes turns around the table picking one card from each pack at a time to form a deck to battle with on the fly! Drafted cards are yours to keep\, with additional pack prizing based on entry count. \n  \n$20 entry ($15 for Historical Draft Packs). Pods begin firing at 3:00pm and will hard fire at 3:30PM as long as there are enough participants.
URL:https://www.imperialtradingcards.com/event/mtg-draft-2/2027-02-21/
CATEGORIES:Draft,Magic the Gathering
ATTACH;FMTTYPE=image/jpeg:https://www.imperialtradingcards.com/wp-content/uploads/2023/07/mtgdraft.jpg
END:VEVENT
BEGIN:VEVENT
DTSTART;TZID=America/Chicago:20270223T160000
DTEND;TZID=America/Chicago:20270223T210000
DTSTAMP:20260423T095831
CREATED:20240526T011646Z
LAST-MODIFIED:20240526T011647Z
UID:10013427-1803398400-1803416400@www.imperialtradingcards.com
SUMMARY:Casual MtG Commander
DESCRIPTION:Join us for an open night of Commander! \nDecks of any power level and players of any skill level welcome!
URL:https://www.imperialtradingcards.com/event/casual-mtg-commander-2-2/2027-02-23/
CATEGORIES:Commander,Magic the Gathering,Trading Card Games
ATTACH;FMTTYPE=image/png:https://www.imperialtradingcards.com/wp-content/uploads/2023/07/magicv1.png
END:VEVENT
BEGIN:VEVENT
DTSTART;TZID=America/Chicago:20270228T150000
DTEND;TZID=America/Chicago:20270228T190000
DTSTAMP:20260423T095831
CREATED:20240526T011457Z
LAST-MODIFIED:20250918T122716Z
UID:10013168-1803826800-1803841200@www.imperialtradingcards.com
SUMMARY:MtG Draft
DESCRIPTION:Out-think\, out-predict\, out-pick\, and out-build up to 7 opponents in a Magic the Gathering Draft! There is honestly nothing that quite compares to the must-try experience and strategy of this playing field leveling\, quite literally game defining Magic format! \nEach player receives three sealed packs of cards at the start of the event and takes turns around the table picking one card from each pack at a time to form a deck to battle with on the fly! Drafted cards are yours to keep\, with additional pack prizing based on entry count. \n  \n$20 entry ($15 for Historical Draft Packs). Pods begin firing at 3:00pm and will hard fire at 3:30PM as long as there are enough participants.
URL:https://www.imperialtradingcards.com/event/mtg-draft-2/2027-02-28/
CATEGORIES:Draft,Magic the Gathering
ATTACH;FMTTYPE=image/jpeg:https://www.imperialtradingcards.com/wp-content/uploads/2023/07/mtgdraft.jpg
END:VEVENT
BEGIN:VEVENT
DTSTART;TZID=America/Chicago:20270302T160000
DTEND;TZID=America/Chicago:20270302T210000
DTSTAMP:20260423T095831
CREATED:20240526T011646Z
LAST-MODIFIED:20240526T011647Z
UID:10013428-1804003200-1804021200@www.imperialtradingcards.com
SUMMARY:Casual MtG Commander
DESCRIPTION:Join us for an open night of Commander! \nDecks of any power level and players of any skill level welcome!
URL:https://www.imperialtradingcards.com/event/casual-mtg-commander-2-2/2027-03-02/
CATEGORIES:Commander,Magic the Gathering,Trading Card Games
ATTACH;FMTTYPE=image/png:https://www.imperialtradingcards.com/wp-content/uploads/2023/07/magicv1.png
END:VEVENT
BEGIN:VEVENT
DTSTART;TZID=America/Chicago:20270307T150000
DTEND;TZID=America/Chicago:20270307T190000
DTSTAMP:20260423T095831
CREATED:20240526T011457Z
LAST-MODIFIED:20250918T122716Z
UID:10013169-1804431600-1804446000@www.imperialtradingcards.com
SUMMARY:MtG Draft
DESCRIPTION:Out-think\, out-predict\, out-pick\, and out-build up to 7 opponents in a Magic the Gathering Draft! There is honestly nothing that quite compares to the must-try experience and strategy of this playing field leveling\, quite literally game defining Magic format! \nEach player receives three sealed packs of cards at the start of the event and takes turns around the table picking one card from each pack at a time to form a deck to battle with on the fly! Drafted cards are yours to keep\, with additional pack prizing based on entry count. \n  \n$20 entry ($15 for Historical Draft Packs). Pods begin firing at 3:00pm and will hard fire at 3:30PM as long as there are enough participants.
URL:https://www.imperialtradingcards.com/event/mtg-draft-2/2027-03-07/
CATEGORIES:Draft,Magic the Gathering
ATTACH;FMTTYPE=image/jpeg:https://www.imperialtradingcards.com/wp-content/uploads/2023/07/mtgdraft.jpg
END:VEVENT
BEGIN:VEVENT
DTSTART;TZID=America/Chicago:20270309T160000
DTEND;TZID=America/Chicago:20270309T210000
DTSTAMP:20260423T095831
CREATED:20240526T011646Z
LAST-MODIFIED:20240526T011647Z
UID:10013429-1804608000-1804626000@www.imperialtradingcards.com
SUMMARY:Casual MtG Commander
DESCRIPTION:Join us for an open night of Commander! \nDecks of any power level and players of any skill level welcome!
URL:https://www.imperialtradingcards.com/event/casual-mtg-commander-2-2/2027-03-09/
CATEGORIES:Commander,Magic the Gathering,Trading Card Games
ATTACH;FMTTYPE=image/png:https://www.imperialtradingcards.com/wp-content/uploads/2023/07/magicv1.png
END:VEVENT
BEGIN:VEVENT
DTSTART;TZID=America/Chicago:20270314T150000
DTEND;TZID=America/Chicago:20270314T190000
DTSTAMP:20260423T095831
CREATED:20240526T011457Z
LAST-MODIFIED:20250918T122716Z
UID:10013170-1805036400-1805050800@www.imperialtradingcards.com
SUMMARY:MtG Draft
DESCRIPTION:Out-think\, out-predict\, out-pick\, and out-build up to 7 opponents in a Magic the Gathering Draft! There is honestly nothing that quite compares to the must-try experience and strategy of this playing field leveling\, quite literally game defining Magic format! \nEach player receives three sealed packs of cards at the start of the event and takes turns around the table picking one card from each pack at a time to form a deck to battle with on the fly! Drafted cards are yours to keep\, with additional pack prizing based on entry count. \n  \n$20 entry ($15 for Historical Draft Packs). Pods begin firing at 3:00pm and will hard fire at 3:30PM as long as there are enough participants.
URL:https://www.imperialtradingcards.com/event/mtg-draft-2/2027-03-14/
CATEGORIES:Draft,Magic the Gathering
ATTACH;FMTTYPE=image/jpeg:https://www.imperialtradingcards.com/wp-content/uploads/2023/07/mtgdraft.jpg
END:VEVENT
BEGIN:VEVENT
DTSTART;TZID=America/Chicago:20270316T160000
DTEND;TZID=America/Chicago:20270316T210000
DTSTAMP:20260423T095831
CREATED:20240526T011646Z
LAST-MODIFIED:20240526T011647Z
UID:10013430-1805212800-1805230800@www.imperialtradingcards.com
SUMMARY:Casual MtG Commander
DESCRIPTION:Join us for an open night of Commander! \nDecks of any power level and players of any skill level welcome!
URL:https://www.imperialtradingcards.com/event/casual-mtg-commander-2-2/2027-03-16/
CATEGORIES:Commander,Magic the Gathering,Trading Card Games
ATTACH;FMTTYPE=image/png:https://www.imperialtradingcards.com/wp-content/uploads/2023/07/magicv1.png
END:VEVENT
BEGIN:VEVENT
DTSTART;TZID=America/Chicago:20270321T150000
DTEND;TZID=America/Chicago:20270321T190000
DTSTAMP:20260423T095831
CREATED:20240526T011457Z
LAST-MODIFIED:20250918T122716Z
UID:10013171-1805641200-1805655600@www.imperialtradingcards.com
SUMMARY:MtG Draft
DESCRIPTION:Out-think\, out-predict\, out-pick\, and out-build up to 7 opponents in a Magic the Gathering Draft! There is honestly nothing that quite compares to the must-try experience and strategy of this playing field leveling\, quite literally game defining Magic format! \nEach player receives three sealed packs of cards at the start of the event and takes turns around the table picking one card from each pack at a time to form a deck to battle with on the fly! Drafted cards are yours to keep\, with additional pack prizing based on entry count. \n  \n$20 entry ($15 for Historical Draft Packs). Pods begin firing at 3:00pm and will hard fire at 3:30PM as long as there are enough participants.
URL:https://www.imperialtradingcards.com/event/mtg-draft-2/2027-03-21/
CATEGORIES:Draft,Magic the Gathering
ATTACH;FMTTYPE=image/jpeg:https://www.imperialtradingcards.com/wp-content/uploads/2023/07/mtgdraft.jpg
END:VEVENT
BEGIN:VEVENT
DTSTART;TZID=America/Chicago:20270323T160000
DTEND;TZID=America/Chicago:20270323T210000
DTSTAMP:20260423T095831
CREATED:20240526T011646Z
LAST-MODIFIED:20240526T011647Z
UID:10013431-1805817600-1805835600@www.imperialtradingcards.com
SUMMARY:Casual MtG Commander
DESCRIPTION:Join us for an open night of Commander! \nDecks of any power level and players of any skill level welcome!
URL:https://www.imperialtradingcards.com/event/casual-mtg-commander-2-2/2027-03-23/
CATEGORIES:Commander,Magic the Gathering,Trading Card Games
ATTACH;FMTTYPE=image/png:https://www.imperialtradingcards.com/wp-content/uploads/2023/07/magicv1.png
END:VEVENT
BEGIN:VEVENT
DTSTART;TZID=America/Chicago:20270328T150000
DTEND;TZID=America/Chicago:20270328T190000
DTSTAMP:20260423T095831
CREATED:20240526T011457Z
LAST-MODIFIED:20250918T122716Z
UID:10013172-1806246000-1806260400@www.imperialtradingcards.com
SUMMARY:MtG Draft
DESCRIPTION:Out-think\, out-predict\, out-pick\, and out-build up to 7 opponents in a Magic the Gathering Draft! There is honestly nothing that quite compares to the must-try experience and strategy of this playing field leveling\, quite literally game defining Magic format! \nEach player receives three sealed packs of cards at the start of the event and takes turns around the table picking one card from each pack at a time to form a deck to battle with on the fly! Drafted cards are yours to keep\, with additional pack prizing based on entry count. \n  \n$20 entry ($15 for Historical Draft Packs). Pods begin firing at 3:00pm and will hard fire at 3:30PM as long as there are enough participants.
URL:https://www.imperialtradingcards.com/event/mtg-draft-2/2027-03-28/
CATEGORIES:Draft,Magic the Gathering
ATTACH;FMTTYPE=image/jpeg:https://www.imperialtradingcards.com/wp-content/uploads/2023/07/mtgdraft.jpg
END:VEVENT
BEGIN:VEVENT
DTSTART;TZID=America/Chicago:20270330T160000
DTEND;TZID=America/Chicago:20270330T210000
DTSTAMP:20260423T095831
CREATED:20240526T011646Z
LAST-MODIFIED:20240526T011647Z
UID:10013432-1806422400-1806440400@www.imperialtradingcards.com
SUMMARY:Casual MtG Commander
DESCRIPTION:Join us for an open night of Commander! \nDecks of any power level and players of any skill level welcome!
URL:https://www.imperialtradingcards.com/event/casual-mtg-commander-2-2/2027-03-30/
CATEGORIES:Commander,Magic the Gathering,Trading Card Games
ATTACH;FMTTYPE=image/png:https://www.imperialtradingcards.com/wp-content/uploads/2023/07/magicv1.png
END:VEVENT
BEGIN:VEVENT
DTSTART;TZID=America/Chicago:20270404T150000
DTEND;TZID=America/Chicago:20270404T190000
DTSTAMP:20260423T095831
CREATED:20240526T011457Z
LAST-MODIFIED:20250918T122716Z
UID:10013173-1806850800-1806865200@www.imperialtradingcards.com
SUMMARY:MtG Draft
DESCRIPTION:Out-think\, out-predict\, out-pick\, and out-build up to 7 opponents in a Magic the Gathering Draft! There is honestly nothing that quite compares to the must-try experience and strategy of this playing field leveling\, quite literally game defining Magic format! \nEach player receives three sealed packs of cards at the start of the event and takes turns around the table picking one card from each pack at a time to form a deck to battle with on the fly! Drafted cards are yours to keep\, with additional pack prizing based on entry count. \n  \n$20 entry ($15 for Historical Draft Packs). Pods begin firing at 3:00pm and will hard fire at 3:30PM as long as there are enough participants.
URL:https://www.imperialtradingcards.com/event/mtg-draft-2/2027-04-04/
CATEGORIES:Draft,Magic the Gathering
ATTACH;FMTTYPE=image/jpeg:https://www.imperialtradingcards.com/wp-content/uploads/2023/07/mtgdraft.jpg
END:VEVENT
BEGIN:VEVENT
DTSTART;TZID=America/Chicago:20270406T160000
DTEND;TZID=America/Chicago:20270406T210000
DTSTAMP:20260423T095831
CREATED:20240526T011646Z
LAST-MODIFIED:20240526T011647Z
UID:10013433-1807027200-1807045200@www.imperialtradingcards.com
SUMMARY:Casual MtG Commander
DESCRIPTION:Join us for an open night of Commander! \nDecks of any power level and players of any skill level welcome!
URL:https://www.imperialtradingcards.com/event/casual-mtg-commander-2-2/2027-04-06/
CATEGORIES:Commander,Magic the Gathering,Trading Card Games
ATTACH;FMTTYPE=image/png:https://www.imperialtradingcards.com/wp-content/uploads/2023/07/magicv1.png
END:VEVENT
BEGIN:VEVENT
DTSTART;TZID=America/Chicago:20270411T150000
DTEND;TZID=America/Chicago:20270411T190000
DTSTAMP:20260423T095831
CREATED:20240526T011457Z
LAST-MODIFIED:20250918T122716Z
UID:10013174-1807455600-1807470000@www.imperialtradingcards.com
SUMMARY:MtG Draft
DESCRIPTION:Out-think\, out-predict\, out-pick\, and out-build up to 7 opponents in a Magic the Gathering Draft! There is honestly nothing that quite compares to the must-try experience and strategy of this playing field leveling\, quite literally game defining Magic format! \nEach player receives three sealed packs of cards at the start of the event and takes turns around the table picking one card from each pack at a time to form a deck to battle with on the fly! Drafted cards are yours to keep\, with additional pack prizing based on entry count. \n  \n$20 entry ($15 for Historical Draft Packs). Pods begin firing at 3:00pm and will hard fire at 3:30PM as long as there are enough participants.
URL:https://www.imperialtradingcards.com/event/mtg-draft-2/2027-04-11/
CATEGORIES:Draft,Magic the Gathering
ATTACH;FMTTYPE=image/jpeg:https://www.imperialtradingcards.com/wp-content/uploads/2023/07/mtgdraft.jpg
END:VEVENT
BEGIN:VEVENT
DTSTART;TZID=America/Chicago:20270413T160000
DTEND;TZID=America/Chicago:20270413T210000
DTSTAMP:20260423T095831
CREATED:20240526T011646Z
LAST-MODIFIED:20240526T011647Z
UID:10013434-1807632000-1807650000@www.imperialtradingcards.com
SUMMARY:Casual MtG Commander
DESCRIPTION:Join us for an open night of Commander! \nDecks of any power level and players of any skill level welcome!
URL:https://www.imperialtradingcards.com/event/casual-mtg-commander-2-2/2027-04-13/
CATEGORIES:Commander,Magic the Gathering,Trading Card Games
ATTACH;FMTTYPE=image/png:https://www.imperialtradingcards.com/wp-content/uploads/2023/07/magicv1.png
END:VEVENT
END:VCALENDAR